BEGIN:VCALENDAR
VERSION:2.0
PRODID:-//Elferrat Ebermannstadt - ECPv6.15.20//NONSGML v1.0//EN
CALSCALE:GREGORIAN
METHOD:PUBLISH
X-ORIGINAL-URL:https://elferrat-ebs.de
X-WR-CALDESC:Veranstaltungen für Elferrat Ebermannstadt
REFRESH-INTERVAL;VALUE=DURATION:PT1H
X-Robots-Tag:noindex
X-PUBLISHED-TTL:PT1H
BEGIN:VTIMEZONE
TZID:Europe/Berlin
BEGIN:DAYLIGHT
TZOFFSETFROM:+0100
TZOFFSETTO:+0200
TZNAME:CEST
DTSTART:20250330T010000
END:DAYLIGHT
BEGIN:STANDARD
TZOFFSETFROM:+0200
TZOFFSETTO:+0100
TZNAME:CET
DTSTART:20251026T010000
END:STANDARD
BEGIN:DAYLIGHT
TZOFFSETFROM:+0100
TZOFFSETTO:+0200
TZNAME:CEST
DTSTART:20260329T010000
END:DAYLIGHT
BEGIN:STANDARD
TZOFFSETFROM:+0200
TZOFFSETTO:+0100
TZNAME:CET
DTSTART:20261025T010000
END:STANDARD
BEGIN:DAYLIGHT
TZOFFSETFROM:+0100
TZOFFSETTO:+0200
TZNAME:CEST
DTSTART:20270328T010000
END:DAYLIGHT
BEGIN:STANDARD
TZOFFSETFROM:+0200
TZOFFSETTO:+0100
TZNAME:CET
DTSTART:20271031T010000
END:STANDARD
END:VTIMEZONE
BEGIN:VEVENT
DTSTART;TZID=Europe/Berlin:20260131T183000
DTEND;TZID=Europe/Berlin:20260201T023000
DTSTAMP:20260424T205322
CREATED:20241221T144940Z
LAST-MODIFIED:20251228T104142Z
UID:2890-1769884200-1769913000@elferrat-ebs.de
SUMMARY:Großer EBSer Faschingsball
DESCRIPTION:
URL:https://elferrat-ebs.de/event/grosser-ebser-faschingsball-3/
LOCATION:Stadthalle Ebermannstadt\, Georg-Wagner-Straße 14\, Ebermannstadt\, 91320\, Deutschland
END:VEVENT
BEGIN:VEVENT
DTSTART;TZID=Europe/Berlin:20260204T193000
DTEND;TZID=Europe/Berlin:20260204T210000
DTSTAMP:20260424T205322
CREATED:20251228T104541Z
LAST-MODIFIED:20251228T104541Z
UID:3290-1770233400-1770238800@elferrat-ebs.de
SUMMARY:Vereinssitzung
DESCRIPTION:
URL:https://elferrat-ebs.de/event/vereinssitzung-65/
LOCATION:Brauereigasthof Schwanenbräu\, Am Marktplatz 2\, Ebermannstadt\, 91320\, Deutschland
END:VEVENT
BEGIN:VEVENT
DTSTART;TZID=Europe/Berlin:20260207T180000
DTEND;TZID=Europe/Berlin:20260207T220000
DTSTAMP:20260424T205322
CREATED:20250407T132642Z
LAST-MODIFIED:20251228T104200Z
UID:3187-1770487200-1770501600@elferrat-ebs.de
SUMMARY:Jugendfasching
DESCRIPTION:
URL:https://elferrat-ebs.de/event/jugendfasching-3/
LOCATION:Pfarrheim Ebermannstadt\, Kirchenplatz 9\, Ebermannstadt\, Bayern\, 91320\, Germany
END:VEVENT
BEGIN:VEVENT
DTSTART;TZID=Europe/Berlin:20260211T193000
DTEND;TZID=Europe/Berlin:20260211T210000
DTSTAMP:20260424T205322
CREATED:20251228T104608Z
LAST-MODIFIED:20251228T104608Z
UID:3292-1770838200-1770843600@elferrat-ebs.de
SUMMARY:Vereinssitzung
DESCRIPTION:
URL:https://elferrat-ebs.de/event/vereinssitzung-66/
LOCATION:Schützenheim Ebermannstadt\, Sportplatzstraße 6\, Ebermannstadt\, Bayern\, 91320\, Deutschland
END:VEVENT
BEGIN:VEVENT
DTSTART;TZID=Europe/Berlin:20260214T130000
DTEND;TZID=Europe/Berlin:20260214T170000
DTSTAMP:20260424T205322
CREATED:20251228T104755Z
LAST-MODIFIED:20251228T104755Z
UID:3298-1771074000-1771088400@elferrat-ebs.de
SUMMARY:Teilnahme am Faschingsumzug Heroldsbach
DESCRIPTION:
URL:https://elferrat-ebs.de/event/teilnahme-am-faschingsumzug-heroldsbach/
LOCATION:Heroldsbach\, Heroldsbach\, Deutschland
END:VEVENT
BEGIN:VEVENT
DTSTART;TZID=Europe/Berlin:20260215T140000
DTEND;TZID=Europe/Berlin:20260215T170000
DTSTAMP:20260424T205322
CREATED:20250407T132721Z
LAST-MODIFIED:20251228T104214Z
UID:3192-1771164000-1771174800@elferrat-ebs.de
SUMMARY:Faschingsumzug Ebermannstadt
DESCRIPTION:
URL:https://elferrat-ebs.de/event/faschingsumzug-ebermannstadt/
LOCATION:Ebermannstadt\, Ebermannstadt\, 91320\, Deutschland
END:VEVENT
BEGIN:VEVENT
DTSTART;TZID=Europe/Berlin:20260216T140000
DTEND;TZID=Europe/Berlin:20260216T170000
DTSTAMP:20260424T205322
CREATED:20251228T104824Z
LAST-MODIFIED:20251228T104824Z
UID:3300-1771250400-1771261200@elferrat-ebs.de
SUMMARY:Teilnahme am Faschingsumzug Waischenfeld
DESCRIPTION:
URL:https://elferrat-ebs.de/event/teilnahme-am-faschingsumzug-waischenfeld/
LOCATION:Waischenfeld\, Waischenfeld
END:VEVENT
BEGIN:VEVENT
DTSTART;TZID=Europe/Berlin:20260217T140000
DTEND;TZID=Europe/Berlin:20260217T170000
DTSTAMP:20260424T205322
CREATED:20251228T104857Z
LAST-MODIFIED:20251228T104857Z
UID:3302-1771336800-1771347600@elferrat-ebs.de
SUMMARY:Teilnahme am Faschingsumzug Buttenheim
DESCRIPTION:
URL:https://elferrat-ebs.de/event/teilnahme-am-faschingsumzug-buttenheim/
LOCATION:Buttenheim\, Buttenheim\, Germany
END:VEVENT
BEGIN:VEVENT
DTSTART;TZID=Europe/Berlin:20260217T180000
DTEND;TZID=Europe/Berlin:20260217T230000
DTSTAMP:20260424T205322
CREATED:20251228T104716Z
LAST-MODIFIED:20251228T104716Z
UID:3296-1771351200-1771369200@elferrat-ebs.de
SUMMARY:Kehraus
DESCRIPTION:
URL:https://elferrat-ebs.de/event/kehraus-3/
LOCATION:Pfarrheim Ebermannstadt\, Kirchenplatz 9\, Ebermannstadt\, Bayern\, 91320\, Germany
END:VEVENT
BEGIN:VEVENT
DTSTART;TZID=Europe/Berlin:20260218T190000
DTEND;TZID=Europe/Berlin:20260218T213000
DTSTAMP:20260424T205322
CREATED:20251228T104646Z
LAST-MODIFIED:20260204T180302Z
UID:3294-1771441200-1771450200@elferrat-ebs.de
SUMMARY:Heringsessen
DESCRIPTION:
URL:https://elferrat-ebs.de/event/heringsessen-4/
LOCATION:Golfpension Messingschlager\, Kanndorf 8\, Kanndorf\, 91320\, Deutschland
END:VEVENT
END:VCALENDAR