BEGIN:VCALENDAR
VERSION:2.0
PRODID:-//Elferrat Ebermannstadt - ECPv6.15.20//NONSGML v1.0//EN
CALSCALE:GREGORIAN
METHOD:PUBLISH
X-ORIGINAL-URL:https://elferrat-ebs.de
X-WR-CALDESC:Veranstaltungen für Elferrat Ebermannstadt
REFRESH-INTERVAL;VALUE=DURATION:PT1H
X-Robots-Tag:noindex
X-PUBLISHED-TTL:PT1H
BEGIN:VTIMEZONE
TZID:Europe/Berlin
BEGIN:DAYLIGHT
TZOFFSETFROM:+0100
TZOFFSETTO:+0200
TZNAME:CEST
DTSTART:20250330T010000
END:DAYLIGHT
BEGIN:STANDARD
TZOFFSETFROM:+0200
TZOFFSETTO:+0100
TZNAME:CET
DTSTART:20251026T010000
END:STANDARD
BEGIN:DAYLIGHT
TZOFFSETFROM:+0100
TZOFFSETTO:+0200
TZNAME:CEST
DTSTART:20260329T010000
END:DAYLIGHT
BEGIN:STANDARD
TZOFFSETFROM:+0200
TZOFFSETTO:+0100
TZNAME:CET
DTSTART:20261025T010000
END:STANDARD
BEGIN:DAYLIGHT
TZOFFSETFROM:+0100
TZOFFSETTO:+0200
TZNAME:CEST
DTSTART:20270328T010000
END:DAYLIGHT
BEGIN:STANDARD
TZOFFSETFROM:+0200
TZOFFSETTO:+0100
TZNAME:CET
DTSTART:20271031T010000
END:STANDARD
END:VTIMEZONE
BEGIN:VEVENT
DTSTART;TZID=Europe/Berlin:20260110T183000
DTEND;TZID=Europe/Berlin:20260111T030000
DTSTAMP:20260424T234657
CREATED:20241221T144842Z
LAST-MODIFIED:20251228T104034Z
UID:2888-1768069800-1768100400@elferrat-ebs.de
SUMMARY:Prunksitzung
DESCRIPTION:
URL:https://elferrat-ebs.de/event/prunksitzung-3/
LOCATION:Stadthalle Ebermannstadt\, Georg-Wagner-Straße 14\, Ebermannstadt\, 91320\, Deutschland
END:VEVENT
END:VCALENDAR